BEGIN:VCALENDAR
VERSION:2.0
PRODID:-//Wintersdorfer Narrengemeinschaft e.V.  - ECPv6.15.11//NONSGML v1.0//EN
CALSCALE:GREGORIAN
METHOD:PUBLISH
X-WR-CALNAME:Wintersdorfer Narrengemeinschaft e.V. 
X-ORIGINAL-URL:https://wintersdorfer-narrengemeinschaft.de
X-WR-CALDESC:Veranstaltungen für Wintersdorfer Narrengemeinschaft e.V. 
REFRESH-INTERVAL;VALUE=DURATION:PT1H
X-Robots-Tag:noindex
X-PUBLISHED-TTL:PT1H
BEGIN:VTIMEZONE
TZID:Europe/Berlin
BEGIN:DAYLIGHT
TZOFFSETFROM:+0100
TZOFFSETTO:+0200
TZNAME:CEST
DTSTART:20260329T010000
END:DAYLIGHT
BEGIN:STANDARD
TZOFFSETFROM:+0200
TZOFFSETTO:+0100
TZNAME:CET
DTSTART:20261025T010000
END:STANDARD
BEGIN:DAYLIGHT
TZOFFSETFROM:+0100
TZOFFSETTO:+0200
TZNAME:CEST
DTSTART:20270328T010000
END:DAYLIGHT
BEGIN:STANDARD
TZOFFSETFROM:+0200
TZOFFSETTO:+0100
TZNAME:CET
DTSTART:20271031T010000
END:STANDARD
BEGIN:DAYLIGHT
TZOFFSETFROM:+0100
TZOFFSETTO:+0200
TZNAME:CEST
DTSTART:20280326T010000
END:DAYLIGHT
BEGIN:STANDARD
TZOFFSETFROM:+0200
TZOFFSETTO:+0100
TZNAME:CET
DTSTART:20281029T010000
END:STANDARD
END:VTIMEZONE
BEGIN:VEVENT
DTSTART;TZID=Europe/Berlin:20270122T190000
DTEND;TZID=Europe/Berlin:20270122T235500
DTSTAMP:20260419T162529
CREATED:20250923T124835Z
LAST-MODIFIED:20260220T212101Z
UID:1356-1800644400-1800662100@wintersdorfer-narrengemeinschaft.de
SUMMARY:Narretei im Ried
DESCRIPTION:
URL:https://wintersdorfer-narrengemeinschaft.de/event/narretei-im-ried/
LOCATION:Festhalle\, St.-Michael-Straße 4\, Wintersdorf\, Baden-Württemberg\, 76437\, Deutschland
CATEGORIES:Narretei im Ried
END:VEVENT
BEGIN:VEVENT
DTSTART;TZID=Europe/Berlin:20270123T190000
DTEND;TZID=Europe/Berlin:20270123T233000
DTSTAMP:20260419T162529
CREATED:20250923T125040Z
LAST-MODIFIED:20260220T212137Z
UID:1359-1800730800-1800747000@wintersdorfer-narrengemeinschaft.de
SUMMARY:Narretei im Ried
DESCRIPTION:
URL:https://wintersdorfer-narrengemeinschaft.de/event/narretei-im-ried-2/
LOCATION:Festhalle\, St.-Michael-Straße 4\, Wintersdorf\, Baden-Württemberg\, 76437\, Deutschland
CATEGORIES:Narretei im Ried
END:VEVENT
BEGIN:VEVENT
DTSTART;TZID=Europe/Berlin:20270204T150000
DTEND;TZID=Europe/Berlin:20270204T170000
DTSTAMP:20260419T162529
CREATED:20260112T223746Z
LAST-MODIFIED:20260220T212309Z
UID:1427-1801753200-1801760400@wintersdorfer-narrengemeinschaft.de
SUMMARY:Kinderfaschingsparty
DESCRIPTION:
URL:https://wintersdorfer-narrengemeinschaft.de/event/kinderfaschingsparty/
LOCATION:Gemeindehaus  Wintersdorf\, Otto-Stegmüller-Weg 2\, Rastatt-Wintersdorf
END:VEVENT
BEGIN:VEVENT
DTSTART;TZID=Europe/Berlin:20270204T170000
DTEND;TZID=Europe/Berlin:20270204T230000
DTSTAMP:20260419T162529
CREATED:20250923T125526Z
LAST-MODIFIED:20260220T212238Z
UID:1361-1801760400-1801782000@wintersdorfer-narrengemeinschaft.de
SUMMARY:Narrenbaumstellen
DESCRIPTION:
URL:https://wintersdorfer-narrengemeinschaft.de/event/narrenbaumstellen/
LOCATION:Dorfplatz Wintersdorf
CATEGORIES:Elferrat,Wintersdorfer Narrengemeinschaft
END:VEVENT
BEGIN:VEVENT
DTSTART;TZID=Europe/Berlin:20270209T170000
DTEND;TZID=Europe/Berlin:20270209T230000
DTSTAMP:20260419T162529
CREATED:20250923T125756Z
LAST-MODIFIED:20260220T212208Z
UID:1363-1802192400-1802214000@wintersdorfer-narrengemeinschaft.de
SUMMARY:Fastnachtsverbrennung
DESCRIPTION:
URL:https://wintersdorfer-narrengemeinschaft.de/event/fastnachtsverbrennung/
LOCATION:Dorfplatz Wintersdorf
CATEGORIES:Elferrat,Wintersdorfer Narrengemeinschaft
END:VEVENT
END:VCALENDAR